BEGIN:VCALENDAR
VERSION:2.0
PRODID:-//Dynics - ECPv6.15.10//NONSGML v1.0//EN
CALSCALE:GREGORIAN
METHOD:PUBLISH
X-WR-CALNAME:Dynics
X-ORIGINAL-URL:https://dynics.com
X-WR-CALDESC:Events for Dynics
REFRESH-INTERVAL;VALUE=DURATION:PT1H
X-Robots-Tag:noindex
X-PUBLISHED-TTL:PT1H
BEGIN:VTIMEZONE
TZID:America/Detroit
BEGIN:DAYLIGHT
TZOFFSETFROM:-0500
TZOFFSETTO:-0400
TZNAME:EDT
DTSTART:20250309T070000
END:DAYLIGHT
BEGIN:STANDARD
TZOFFSETFROM:-0400
TZOFFSETTO:-0500
TZNAME:EST
DTSTART:20251102T060000
END:STANDARD
BEGIN:DAYLIGHT
TZOFFSETFROM:-0500
TZOFFSETTO:-0400
TZNAME:EDT
DTSTART:20260308T070000
END:DAYLIGHT
BEGIN:STANDARD
TZOFFSETFROM:-0400
TZOFFSETTO:-0500
TZNAME:EST
DTSTART:20261101T060000
END:STANDARD
BEGIN:DAYLIGHT
TZOFFSETFROM:-0500
TZOFFSETTO:-0400
TZNAME:EDT
DTSTART:20270314T070000
END:DAYLIGHT
BEGIN:STANDARD
TZOFFSETFROM:-0400
TZOFFSETTO:-0500
TZNAME:EST
DTSTART:20271107T060000
END:STANDARD
END:VTIMEZONE
BEGIN:VEVENT
DTSTART;TZID=America/Detroit:20260420T080000
DTEND;TZID=America/Detroit:20260422T170000
DTSTAMP:20260421T113550
CREATED:20260212T201429Z
LAST-MODIFIED:20260212T201429Z
UID:987515865-1776672000-1776877200@dynics.com
SUMMARY:Level Zero OT Cybersecurity Conference
DESCRIPTION:The Level Zero Conference brings experts from across industries together to address the complex challenges of securing operational technology. Our multidisciplinary approach integrates engineering\, cyber security\, and risk management to safeguard critical infrastructure from level zero to the cloud. \nJoin DYNICS as we exhibit at this years conference and bring a new level of expertise to OT Cybersecurity.
URL:https://dynics.com/event/level-zero-ot-cybersecurity-conference/
LOCATION:Georgia Tech Exhibition Hall\, 460 Fourth St. N.W.\, Atlanta\, GA\, 30332\, United States
CATEGORIES:Conferences,Upcoming Events
END:VEVENT
BEGIN:VEVENT
DTSTART;VALUE=DATE:20260513
DTEND;VALUE=DATE:20260514
DTSTAMP:20260421T113550
CREATED:20260403T135917Z
LAST-MODIFIED:20260403T135941Z
UID:987515926-1778630400-1778716799@dynics.com
SUMMARY:ATR Automation's Annual User Conference
DESCRIPTION:Join DYNICS at ATR Automation’s Annual User Conference on Wednesday\, May 13th at the Hard Rock Casino in downtown Cincinnati for a free\, one-day user conference in partnership with AVEVA\, where they will showcase the latest automation technologies and their various applications. Including a keynote presentation and technical breakout sessions\, it is an event you don’t want to miss. \nAs a sponsor and speaker\, DYNICS’ CTO\, Jeff Smith session titled: From Segmentation to Semantics: The ICS360 Security Stack. This session introduces the ICS360 platform and its architecture for deterministic OT cybersecurity and secure data movement.  We’ll cover how ICS360.DCC centralizes policy and orchestration across industrial zones\, how ICS360.Defender enforces North/South control and secure remote access\, and how OT-SDN delivers precise East/West device and protocol segmentation to reduce lateral movement risk. The session concludes with ICS360.Fusion\, showing how operational data can move safely to enterprise and cloud systems without sacrificing context or security.
URL:https://dynics.com/event/atr-automations-annual-user-conference/
LOCATION:Hard Rock Casino Cincinnati\, 1000 Broadway St.\, Cincinnati\, OH\, 45202\, United States
CATEGORIES:Conferences,Upcoming Events
END:VEVENT
END:VCALENDAR